BEGIN:VCALENDAR
VERSION:2.0
PRODID:-//ChamberMaster//Event Calendar 2.0//EN
METHOD:PUBLISH
X-PUBLISHED-TTL:P3D
REFRESH-INTERVAL:P3D
CALSCALE:GREGORIAN
BEGIN:VEVENT
DTSTART:20231228T003000Z
DTEND:20231229T030000Z
X-MICROSOFT-CDO-ALLDAYEVENT:FALSE
SUMMARY:Château d’Esclans Dinner – WINTER ROSÉ RENAISSANCE
DESCRIPTION:Elevate your holiday with the "Ros  Lifestyle". Featuring a 5-course menu and pairing with the most exclusive ros s straight from Provence\, including Ch teau d'Esclans\, Les Clans and Garrus.
X-ALT-DESC;FMTTYPE=text/html:Elevate your holiday with the &ldquo\;Ros&eacute\; Lifestyle&rdquo\;. Featuring a 5-course menu and pairing with the most exclusive ros&eacute\;s straight from Provence\, including Ch&acirc\;teau d&rsquo\;Esclans\, Les Clans and Garrus.<br />\n&nbsp\;
LOCATION:Winter Village at The Westin Edina Galleria
UID:e.1654.437086
SEQUENCE:3
DTSTAMP:20260424T022946Z
URL:https://business.edinachamber.com/events/details/ch&#226;teau-d-esclans-dinner-winter-ros&#233;-renaissance-437086
END:VEVENT

END:VCALENDAR
