BEGIN:VCALENDAR
VERSION:2.0
PRODID:-//ChamberMaster//Event Calendar 2.0//EN
METHOD:PUBLISH
X-PUBLISHED-TTL:P3D
REFRESH-INTERVAL:P3D
CALSCALE:GREGORIAN
BEGIN:VEVENT
DTSTART:20240112T003000Z
DTEND:20240112T030000Z
X-MICROSOFT-CDO-ALLDAYEVENT:FALSE
SUMMARY:Dom Pérignon Dinner – Winter Is Just an Excuse
DESCRIPTION:Let the holidays be your excuse to splurge on this one-of-a-kind experience with Dom P rignon.  Set in our cozy chalet\, this five-course dinner with curated pairings from Dom P rignon will be reason enough to celebrate.  Explore the precision and craft of Dom P rignon's wine making\, including a glass of the exclusive Pl nitude 2.  If that isn't indulgent enough\, finish the night with a Hennessy X.O digestif.
X-ALT-DESC;FMTTYPE=text/html:Let the holidays be your excuse to splurge on this one-of-a-kind experience with Dom P&eacute\;rignon.&nbsp\; Set in our cozy chalet\, this five-course dinner with curated pairings from Dom P&eacute\;rignon will be reason enough to celebrate.&nbsp\; Explore the precision and craft of Dom P&eacute\;rignon&rsquo\;s wine making\, including a glass of the exclusive Pl&eacute\;nitude 2.&nbsp\; If that isn&rsquo\;t indulgent enough\, finish the night with a Hennessy X.O digestif.
LOCATION:The Westin Edina Galleria
UID:e.1654.437084
SEQUENCE:3
DTSTAMP:20260424T005807Z
URL:https://business.edinachamber.com/events/details/dom-p&#233;rignon-dinner-winter-is-just-an-excuse-437084
END:VEVENT

END:VCALENDAR
