BEGIN:VCALENDAR
VERSION:2.0
PRODID:-//ChamberMaster//Event Calendar 2.0//EN
METHOD:PUBLISH
X-PUBLISHED-TTL:P3D
REFRESH-INTERVAL:P3D
CALSCALE:GREGORIAN
BEGIN:VEVENT
DTSTART:20240108T173000Z
DTEND:20240108T190000Z
X-MICROSOFT-CDO-ALLDAYEVENT:FALSE
SUMMARY:Lunch and Learn (Virtual): 6 Steps to Start the Year Strong!
DESCRIPTION:Do you want to make more money in 2024? Do you want more FREE time this year? Do you want to find and keep good people on your team?\n \n\n\nMost business owners we meet in the Twin Cities are working 60\, 70\, even 80+ hours a week in their business\, just to be sure to have food on the table for their families and the families of their employees. They have team members who are leaving faster than they can be hired\, and customers are not returning as quickly as you'd like. You're working harder than ever before and taking home less profit\, too. Sound familiar?\n\n \n\nYou're not alone\, and Business Ownership doesn't have to be this way. You started a business because you knew you could be successful. You can\, and the ActionCOACH team is going to present a simple guide to having that success you've always dreamed of. Learn the 6 key ways that you can boost your business and walk away with tools you can use right away. We guarantee that this will be an hour well spent.\n\n \n\nIn this LIVE\, INTERACTIVE seminar\, participants will walk away with tools to grow their business right away.\n\n \n\n*A Zoom link will be sent out prior to the event.
X-ALT-DESC;FMTTYPE=text/html:<span style="color:rgb(57\, 54\, 79)\; font-family:neue plak\,-apple-system\,blinkmacsystemfont\,roboto\,helvetica neue\,helvetica\,tahoma\,arial\,sans-serif\; font-size:14px">Do you want to make more money in 2024? Do you want more FREE time this year? Do you want to find and keep good people on your team?</span>\n<div>&nbsp\;</div>\n\n<div>\n<p>Most business owners we meet in the Twin Cities are working 60\, 70\, even 80+ hours a week in their business\, just to be sure to have food on the table for their families and the families of their employees. They have team members who are leaving faster than they can be hired\, and customers are not returning as quickly as you&#39\;d like. You&rsquo\;re working harder than ever before and taking home less profit\, too. Sound familiar?</p>\n\n<p>&nbsp\;</p>\n\n<p>You&#39\;re not alone\, and Business Ownership doesn&#39\;t have to be this way. You started a business because you knew you could be successful. You can\, and the ActionCOACH team is going to present a simple guide to having that success you&#39\;ve always dreamed of. Learn the 6 key ways that you can boost your business and walk away with tools you can use right away. We guarantee that this will be an hour well spent.</p>\n\n<p>&nbsp\;</p>\n\n<p>In this LIVE\, INTERACTIVE seminar\, participants will walk away with tools to grow their business right away.</p>\n\n<p>&nbsp\;</p>\n\n<p>*A Zoom link will be sent out prior to the event.</p>\n</div>\n
LOCATION:Online
UID:e.1654.437088
SEQUENCE:3
DTSTAMP:20260424T005903Z
URL:https://business.edinachamber.com/events/details/lunch-and-learn-virtual-6-steps-to-start-the-year-strong-437088
END:VEVENT

END:VCALENDAR
